BEGIN:VCALENDAR
VERSION:2.0
PRODID:-//Burschenschaft Cimbria zu Lemgo - ECPv6.15.20//NONSGML v1.0//EN
CALSCALE:GREGORIAN
METHOD:PUBLISH
X-WR-CALNAME:Burschenschaft Cimbria zu Lemgo
X-ORIGINAL-URL:https://b-cimbria.de
X-WR-CALDESC:Veranstaltungen für Burschenschaft Cimbria zu Lemgo
REFRESH-INTERVAL;VALUE=DURATION:PT1H
X-Robots-Tag:noindex
X-PUBLISHED-TTL:PT1H
BEGIN:VTIMEZONE
TZID:Europe/Berlin
BEGIN:DAYLIGHT
TZOFFSETFROM:+0100
TZOFFSETTO:+0200
TZNAME:CEST
DTSTART:20250330T010000
END:DAYLIGHT
BEGIN:STANDARD
TZOFFSETFROM:+0200
TZOFFSETTO:+0100
TZNAME:CET
DTSTART:20251026T010000
END:STANDARD
BEGIN:DAYLIGHT
TZOFFSETFROM:+0100
TZOFFSETTO:+0200
TZNAME:CEST
DTSTART:20260329T010000
END:DAYLIGHT
BEGIN:STANDARD
TZOFFSETFROM:+0200
TZOFFSETTO:+0100
TZNAME:CET
DTSTART:20261025T010000
END:STANDARD
BEGIN:DAYLIGHT
TZOFFSETFROM:+0100
TZOFFSETTO:+0200
TZNAME:CEST
DTSTART:20270328T010000
END:DAYLIGHT
BEGIN:STANDARD
TZOFFSETFROM:+0200
TZOFFSETTO:+0100
TZNAME:CET
DTSTART:20271031T010000
END:STANDARD
END:VTIMEZONE
BEGIN:VEVENT
DTSTART;VALUE=DATE:20260425
DTEND;VALUE=DATE:20260426
DTSTAMP:20260423T140736
CREATED:20260330T162558Z
LAST-MODIFIED:20260330T162558Z
UID:788-1777075200-1777161599@b-cimbria.de
SUMMARY:Stiftungsfest
DESCRIPTION:hochoffiziell \nEs erfolgt eine gesonderte Einladung
URL:https://b-cimbria.de/event/stiftungsfest-4/
END:VEVENT
BEGIN:VEVENT
DTSTART;TZID=Europe/Berlin:20260530T110000
DTEND;TZID=Europe/Berlin:20260530T110000
DTSTAMP:20260423T140736
CREATED:20260330T162705Z
LAST-MODIFIED:20260330T162705Z
UID:791-1780138800-1780138800@b-cimbria.de
SUMMARY:Bierbrau-Seminar
DESCRIPTION:
URL:https://b-cimbria.de/event/bierbrau-seminar-2/
LOCATION:Konstante\, Braker Mitte 14\, Lemgo\, 32657\, Deutschland
END:VEVENT
BEGIN:VEVENT
DTSTART;TZID=Europe/Berlin:20260530T200000
DTEND;TZID=Europe/Berlin:20260530T200000
DTSTAMP:20260423T140736
CREATED:20260330T162741Z
LAST-MODIFIED:20260330T162741Z
UID:794-1780171200-1780171200@b-cimbria.de
SUMMARY:Cimbria Pub Abend
DESCRIPTION:
URL:https://b-cimbria.de/event/cimbria-pub-abend-2/
LOCATION:Konstante\, Braker Mitte 14\, Lemgo\, 32657\, Deutschland
END:VEVENT
BEGIN:VEVENT
DTSTART;TZID=Europe/Berlin:20260606T200000
DTEND;TZID=Europe/Berlin:20260606T200000
DTSTAMP:20260423T140736
CREATED:20260330T162920Z
LAST-MODIFIED:20260330T162920Z
UID:796-1780776000-1780776000@b-cimbria.de
SUMMARY:Cocktailabend
DESCRIPTION:
URL:https://b-cimbria.de/event/cocktailabend/
LOCATION:Konstante\, Braker Mitte 14\, Lemgo\, 32657\, Deutschland
END:VEVENT
BEGIN:VEVENT
DTSTART;TZID=Europe/Berlin:20260620T200000
DTEND;TZID=Europe/Berlin:20260620T200000
DTSTAMP:20260423T140736
CREATED:20260330T163024Z
LAST-MODIFIED:20260330T163318Z
UID:798-1781985600-1781985600@b-cimbria.de
SUMMARY:Burschenschaftlicher Abend
DESCRIPTION:offiziell \nVortrag von Bb Loki
URL:https://b-cimbria.de/event/burschenschaftlicher-abend-2/
LOCATION:Konstante\, Braker Mitte 14\, Lemgo\, 32657\, Deutschland
END:VEVENT
BEGIN:VEVENT
DTSTART;TZID=Europe/Berlin:20260801T170000
DTEND;TZID=Europe/Berlin:20260801T170000
DTSTAMP:20260423T140736
CREATED:20260330T163115Z
LAST-MODIFIED:20260330T163115Z
UID:800-1785603600-1785603600@b-cimbria.de
SUMMARY:BC
DESCRIPTION:interne Veranstaltung
URL:https://b-cimbria.de/event/bc-13/
LOCATION:Konstante\, Braker Mitte 14\, Lemgo\, 32657\, Deutschland
END:VEVENT
BEGIN:VEVENT
DTSTART;TZID=Europe/Berlin:20260801T200000
DTEND;TZID=Europe/Berlin:20260801T200000
DTSTAMP:20260423T140736
CREATED:20260330T163146Z
LAST-MODIFIED:20260330T163146Z
UID:802-1785614400-1785614400@b-cimbria.de
SUMMARY:Exkneipe
DESCRIPTION:hochoffiziell
URL:https://b-cimbria.de/event/exkneipe-3/
LOCATION:Konstante\, Braker Mitte 14\, Lemgo\, 32657\, Deutschland
END:VEVENT
END:VCALENDAR